BEGIN:VCALENDAR
VERSION:2.0
PRODID:-//UnternehmensNetzwerk Motzener Straße e.V. - ECPv6.15.20//NONSGML v1.0//EN
CALSCALE:GREGORIAN
METHOD:PUBLISH
X-WR-CALNAME:UnternehmensNetzwerk Motzener Straße e.V.
X-ORIGINAL-URL:https://www.motzener-strasse.de
X-WR-CALDESC:Veranstaltungen für UnternehmensNetzwerk Motzener Straße e.V.
REFRESH-INTERVAL;VALUE=DURATION:PT1H
X-Robots-Tag:noindex
X-PUBLISHED-TTL:PT1H
BEGIN:VTIMEZONE
TZID:Europe/Berlin
BEGIN:DAYLIGHT
TZOFFSETFROM:+0100
TZOFFSETTO:+0200
TZNAME:CEST
DTSTART:20220327T010000
END:DAYLIGHT
BEGIN:STANDARD
TZOFFSETFROM:+0200
TZOFFSETTO:+0100
TZNAME:CET
DTSTART:20221030T010000
END:STANDARD
BEGIN:DAYLIGHT
TZOFFSETFROM:+0100
TZOFFSETTO:+0200
TZNAME:CEST
DTSTART:20230326T010000
END:DAYLIGHT
BEGIN:STANDARD
TZOFFSETFROM:+0200
TZOFFSETTO:+0100
TZNAME:CET
DTSTART:20231029T010000
END:STANDARD
BEGIN:DAYLIGHT
TZOFFSETFROM:+0100
TZOFFSETTO:+0200
TZNAME:CEST
DTSTART:20240331T010000
END:DAYLIGHT
BEGIN:STANDARD
TZOFFSETFROM:+0200
TZOFFSETTO:+0100
TZNAME:CET
DTSTART:20241027T010000
END:STANDARD
END:VTIMEZONE
BEGIN:VEVENT
DTSTART;TZID=Europe/Berlin:20230424T160000
DTEND;TZID=Europe/Berlin:20230424T173000
DTSTAMP:20260424T011314
CREATED:20231026T030213Z
LAST-MODIFIED:20231026T030213Z
UID:2330-1682352000-1682357400@www.motzener-strasse.de
SUMMARY:Projektvorstellung HTW / BHT
DESCRIPTION:24.04.2023 Projektvorstellung HTW / BHT\nEin Projekt zur Verwertung von industriellen Materialien aus Zuschnitt-Resten produzierender Unternehmen. Dabei kombiniert das geplante Projekt Zuschnittoptimierung\, Materialsubstitution und Kreislaufwirtschaft einschließlich der gewinnbringenden Verwertung von Zuschnitt-Resten.\n14.00 – 15.30 Uhr\, bei INDIA DREUSICKE Berlin\, Nunsdorfer Ring 17 in 12277 Berlin .\nAnmeldungen bis 18. April an die Geschäftsstelle!
URL:https://www.motzener-strasse.de/event/projektvorstellung-htw-bht/
LOCATION:INDIA DREUSICKE Berlin\, Nunsdorfer Ring 17\, 12277 Berlin\, 12277
END:VEVENT
END:VCALENDAR