BEGIN:VCALENDAR
VERSION:2.0
PRODID:-//UnternehmensNetzwerk Motzener Straße e.V. - ECPv6.15.20//NONSGML v1.0//EN
CALSCALE:GREGORIAN
METHOD:PUBLISH
X-WR-CALNAME:UnternehmensNetzwerk Motzener Straße e.V.
X-ORIGINAL-URL:https://www.motzener-strasse.de
X-WR-CALDESC:Veranstaltungen für UnternehmensNetzwerk Motzener Straße e.V.
REFRESH-INTERVAL;VALUE=DURATION:PT1H
X-Robots-Tag:noindex
X-PUBLISHED-TTL:PT1H
BEGIN:VTIMEZONE
TZID:Europe/Berlin
BEGIN:DAYLIGHT
TZOFFSETFROM:+0100
TZOFFSETTO:+0200
TZNAME:CEST
DTSTART:20230326T010000
END:DAYLIGHT
BEGIN:STANDARD
TZOFFSETFROM:+0200
TZOFFSETTO:+0100
TZNAME:CET
DTSTART:20231029T010000
END:STANDARD
BEGIN:DAYLIGHT
TZOFFSETFROM:+0100
TZOFFSETTO:+0200
TZNAME:CEST
DTSTART:20240331T010000
END:DAYLIGHT
BEGIN:STANDARD
TZOFFSETFROM:+0200
TZOFFSETTO:+0100
TZNAME:CET
DTSTART:20241027T010000
END:STANDARD
BEGIN:DAYLIGHT
TZOFFSETFROM:+0100
TZOFFSETTO:+0200
TZNAME:CEST
DTSTART:20250330T010000
END:DAYLIGHT
BEGIN:STANDARD
TZOFFSETFROM:+0200
TZOFFSETTO:+0100
TZNAME:CET
DTSTART:20251026T010000
END:STANDARD
END:VTIMEZONE
BEGIN:VEVENT
DTSTART;TZID=Europe/Berlin:20240416T170000
DTEND;TZID=Europe/Berlin:20240416T190000
DTSTAMP:20260423T040831
CREATED:20240212T173947Z
LAST-MODIFIED:20240222T092820Z
UID:2506-1713286800-1713294000@www.motzener-strasse.de
SUMMARY:Generative künstliche Intelligenz für KMU
DESCRIPTION:Die Info-Veranstaltung richtet sich an Unternehmen des Netzwerks\, die an Grundlagen zu generativer KI oder an konkreten Umsetzungsprojekten für generative KI interessiert sind.  Im Rahmen der Veranstaltung erfahren die Netzwerkmitglieder wie eine Zusammenarbeit mit der KI-Werkstatt der Hochschule für Technik und Wirtschaft (HTW) Berlin aussehen könnte. \nEinführung in generative KI\nProf. Dr. Christina Kratsch \nVorstellung Projekt „Gen KI für KMU“\nProf. Dr. Stefan Wittenberg \nVorstellung KI-Werkstatt der HTW Berlin\nProf. Dr. Erik Rodner \nGen AI rechtsicher in KMU einführen\nDr. Nina Siedler\, Lehrbeauftragte und Rechtsanwältin \nanschließend: \nDiskussion/Praxisbeispiele \n 
URL:https://www.motzener-strasse.de/event/generative-kuenstliche-intelligenz-fuer-kmu/
LOCATION:PROMESS Montage- und Prüfsysteme GmbH\, Nunsdorfer Ring 29\, Berlin\, 12277\, Deutschland
END:VEVENT
END:VCALENDAR