BEGIN:VCALENDAR
VERSION:2.0
PRODID:-//UnternehmensNetzwerk Motzener Straße e.V. - ECPv6.15.20//NONSGML v1.0//EN
CALSCALE:GREGORIAN
METHOD:PUBLISH
X-ORIGINAL-URL:https://www.motzener-strasse.de
X-WR-CALDESC:Veranstaltungen für UnternehmensNetzwerk Motzener Straße e.V.
REFRESH-INTERVAL;VALUE=DURATION:PT1H
X-Robots-Tag:noindex
X-PUBLISHED-TTL:PT1H
BEGIN:VTIMEZONE
TZID:Europe/Berlin
BEGIN:DAYLIGHT
TZOFFSETFROM:+0100
TZOFFSETTO:+0200
TZNAME:CEST
DTSTART:20230326T010000
END:DAYLIGHT
BEGIN:STANDARD
TZOFFSETFROM:+0200
TZOFFSETTO:+0100
TZNAME:CET
DTSTART:20231029T010000
END:STANDARD
BEGIN:DAYLIGHT
TZOFFSETFROM:+0100
TZOFFSETTO:+0200
TZNAME:CEST
DTSTART:20240331T010000
END:DAYLIGHT
BEGIN:STANDARD
TZOFFSETFROM:+0200
TZOFFSETTO:+0100
TZNAME:CET
DTSTART:20241027T010000
END:STANDARD
BEGIN:DAYLIGHT
TZOFFSETFROM:+0100
TZOFFSETTO:+0200
TZNAME:CEST
DTSTART:20250330T010000
END:DAYLIGHT
BEGIN:STANDARD
TZOFFSETFROM:+0200
TZOFFSETTO:+0100
TZNAME:CET
DTSTART:20251026T010000
END:STANDARD
END:VTIMEZONE
BEGIN:VEVENT
DTSTART;TZID=Europe/Berlin:20240604T100000
DTEND;TZID=Europe/Berlin:20240604T110000
DTSTAMP:20260423T002724
CREATED:20240522T110033Z
LAST-MODIFIED:20240522T110747Z
UID:2650-1717495200-1717498800@www.motzener-strasse.de
SUMMARY:Die Reise beginnt jetzt: Nachhaltig wirtschaften"
DESCRIPTION:Ablauf: \n\nEinführung und Vorstellung; Holger Freudenberg\, Berliner Volksbank eG\,  Marktgebiet Firmenkunden KompetenzCenter II | Nachhaltigkeitsberatung\nWas macht die Berliner Volksbank i.S. ESG\n\n„Die Reise beginnt jetzt: Nachhaltig wirtschaften“\nViele Unternehmen überlegen\, wie sie nachhaltiger handeln können\, indem sie etwa Energie sparen und Ressourcen schonen. Auch der Gesetzgeber forciert die Transformation hin zu mehr Nachhaltigkeit mit neuen Vorschriften. Was kommt jetzt auf Unternehmen zu ?\nZeit für Fragen der Teilnehmer*innen\nAusblick und Verabschiedung\n\nWir freuen uns über eine Teilnahmebestätigung bis zum 31.05.2024 an: geschaeftsstelle @motzener-strasse.de\nDen Anmeldelink erhalten Sie nach Ihrer Teilnahmebestätigung!
URL:https://www.motzener-strasse.de/event/die-reise-beginnt-jetzt-nachhaltig-wirtschaften/
LOCATION:Digitale Veranstaltung
END:VEVENT
END:VCALENDAR