BEGIN:VCALENDAR
VERSION:2.0
PRODID:-//UnternehmensNetzwerk Motzener Straße e.V. - ECPv6.15.20//NONSGML v1.0//EN
CALSCALE:GREGORIAN
METHOD:PUBLISH
X-WR-CALNAME:UnternehmensNetzwerk Motzener Straße e.V.
X-ORIGINAL-URL:https://www.motzener-strasse.de
X-WR-CALDESC:Veranstaltungen für UnternehmensNetzwerk Motzener Straße e.V.
REFRESH-INTERVAL;VALUE=DURATION:PT1H
X-Robots-Tag:noindex
X-PUBLISHED-TTL:PT1H
BEGIN:VTIMEZONE
TZID:Europe/Berlin
BEGIN:DAYLIGHT
TZOFFSETFROM:+0100
TZOFFSETTO:+0200
TZNAME:CEST
DTSTART:20230326T010000
END:DAYLIGHT
BEGIN:STANDARD
TZOFFSETFROM:+0200
TZOFFSETTO:+0100
TZNAME:CET
DTSTART:20231029T010000
END:STANDARD
BEGIN:DAYLIGHT
TZOFFSETFROM:+0100
TZOFFSETTO:+0200
TZNAME:CEST
DTSTART:20240331T010000
END:DAYLIGHT
BEGIN:STANDARD
TZOFFSETFROM:+0200
TZOFFSETTO:+0100
TZNAME:CET
DTSTART:20241027T010000
END:STANDARD
BEGIN:DAYLIGHT
TZOFFSETFROM:+0100
TZOFFSETTO:+0200
TZNAME:CEST
DTSTART:20250330T010000
END:DAYLIGHT
BEGIN:STANDARD
TZOFFSETFROM:+0200
TZOFFSETTO:+0100
TZNAME:CET
DTSTART:20251026T010000
END:STANDARD
END:VTIMEZONE
BEGIN:VEVENT
DTSTART;TZID=Europe/Berlin:20240618T170000
DTEND;TZID=Europe/Berlin:20240618T190000
DTSTAMP:20260423T002508
CREATED:20240212T174645Z
LAST-MODIFIED:20240429T141228Z
UID:2514-1718730000-1718737200@www.motzener-strasse.de
SUMMARY:Unternehmenstreffen im Juni
DESCRIPTION:
URL:https://www.motzener-strasse.de/event/unternehmenstreffen-im-juni/
LOCATION:Rubitherm Technologies GmbH\, Imhoffweg 6\, Berlin\, 12307
END:VEVENT
END:VCALENDAR