BEGIN:VCALENDAR
VERSION:2.0
PRODID:-//UnternehmensNetzwerk Motzener Straße e.V. - ECPv6.15.20//NONSGML v1.0//EN
CALSCALE:GREGORIAN
METHOD:PUBLISH
X-ORIGINAL-URL:https://www.motzener-strasse.de
X-WR-CALDESC:Veranstaltungen für UnternehmensNetzwerk Motzener Straße e.V.
REFRESH-INTERVAL;VALUE=DURATION:PT1H
X-Robots-Tag:noindex
X-PUBLISHED-TTL:PT1H
BEGIN:VTIMEZONE
TZID:Europe/Berlin
BEGIN:DAYLIGHT
TZOFFSETFROM:+0100
TZOFFSETTO:+0200
TZNAME:CEST
DTSTART:20230326T010000
END:DAYLIGHT
BEGIN:STANDARD
TZOFFSETFROM:+0200
TZOFFSETTO:+0100
TZNAME:CET
DTSTART:20231029T010000
END:STANDARD
BEGIN:DAYLIGHT
TZOFFSETFROM:+0100
TZOFFSETTO:+0200
TZNAME:CEST
DTSTART:20240331T010000
END:DAYLIGHT
BEGIN:STANDARD
TZOFFSETFROM:+0200
TZOFFSETTO:+0100
TZNAME:CET
DTSTART:20241027T010000
END:STANDARD
BEGIN:DAYLIGHT
TZOFFSETFROM:+0100
TZOFFSETTO:+0200
TZNAME:CEST
DTSTART:20250330T010000
END:DAYLIGHT
BEGIN:STANDARD
TZOFFSETFROM:+0200
TZOFFSETTO:+0100
TZNAME:CET
DTSTART:20251026T010000
END:STANDARD
END:VTIMEZONE
BEGIN:VEVENT
DTSTART;TZID=Europe/Berlin:20240906T110000
DTEND;TZID=Europe/Berlin:20240906T160000
DTSTAMP:20260422T191743
CREATED:20240306T133916Z
LAST-MODIFIED:20240614T112810Z
UID:2582-1725620400-1725638400@www.motzener-strasse.de
SUMMARY:2. Ausbildungsmesse mit Kick!
DESCRIPTION:Die in 2023 gestartete neue Ausbildungsinitiative des UnternehmensNetzwerks wird 2024 fortgesetzt! Gemeinsam mit dem Lichtenrader BC 25 e.V. und den kooperierenden Schulen präsentieren sich wieder Unternehmen des Industriegebietes\, geben Einblicke in ihre Firmen und stellen ihre Ausbildungs- und Praktika Angebote vor. Begleitet werden soll die Aktion wieder mit interaktiven Workshops zur Berufsorientierung.
URL:https://www.motzener-strasse.de/event/2-ausbildungsmesse-mit-kick/
LOCATION:Lichtenrader BC 25 e.V.\, Halker Zeile 151\, Berlin\, 12305
END:VEVENT
BEGIN:VEVENT
DTSTART;TZID=Europe/Berlin:20240906T163000
DTEND;TZID=Europe/Berlin:20240906T200000
DTSTAMP:20260422T191743
CREATED:20240212T174145Z
LAST-MODIFIED:20240614T113004Z
UID:2510-1725640200-1725652800@www.motzener-strasse.de
SUMMARY:Sommerfest
DESCRIPTION:Unser Sommerfest findet dieses Jahr im Anschluss an unsere „Ausbildungsmesse mit Kick“ auf dem Sportplatz statt.
URL:https://www.motzener-strasse.de/event/sommerfest-2/
LOCATION:Lichtenrader BC 25 e.V.\, Halker Zeile 151\, Berlin\, 12305
END:VEVENT
END:VCALENDAR