BEGIN:VCALENDAR
VERSION:2.0
PRODID:-//UnternehmensNetzwerk Motzener Straße e.V. - ECPv6.15.20//NONSGML v1.0//EN
CALSCALE:GREGORIAN
METHOD:PUBLISH
X-WR-CALNAME:UnternehmensNetzwerk Motzener Straße e.V.
X-ORIGINAL-URL:https://www.motzener-strasse.de
X-WR-CALDESC:Veranstaltungen für UnternehmensNetzwerk Motzener Straße e.V.
REFRESH-INTERVAL;VALUE=DURATION:PT1H
X-Robots-Tag:noindex
X-PUBLISHED-TTL:PT1H
BEGIN:VTIMEZONE
TZID:Europe/Berlin
BEGIN:DAYLIGHT
TZOFFSETFROM:+0100
TZOFFSETTO:+0200
TZNAME:CEST
DTSTART:20230326T010000
END:DAYLIGHT
BEGIN:STANDARD
TZOFFSETFROM:+0200
TZOFFSETTO:+0100
TZNAME:CET
DTSTART:20231029T010000
END:STANDARD
BEGIN:DAYLIGHT
TZOFFSETFROM:+0100
TZOFFSETTO:+0200
TZNAME:CEST
DTSTART:20240331T010000
END:DAYLIGHT
BEGIN:STANDARD
TZOFFSETFROM:+0200
TZOFFSETTO:+0100
TZNAME:CET
DTSTART:20241027T010000
END:STANDARD
BEGIN:DAYLIGHT
TZOFFSETFROM:+0100
TZOFFSETTO:+0200
TZNAME:CEST
DTSTART:20250330T010000
END:DAYLIGHT
BEGIN:STANDARD
TZOFFSETFROM:+0200
TZOFFSETTO:+0100
TZNAME:CET
DTSTART:20251026T010000
END:STANDARD
END:VTIMEZONE
BEGIN:VEVENT
DTSTART;TZID=Europe/Berlin:20241114T160000
DTEND;TZID=Europe/Berlin:20241114T203000
DTSTAMP:20260422T155404
CREATED:20241017T142711Z
LAST-MODIFIED:20241017T143127Z
UID:2828-1731600000-1731616200@www.motzener-strasse.de
SUMMARY:Berlin wirtschaftet Zukunft – Jahresevent von nawi.berlin
DESCRIPTION:Die Veranstaltung richtet sich an alle Unternehmer:innen aus Berlin\, die ihr Unternehmen nachhaltiger ausrichten wollen oder müssen\, an Nachhaltigkeitsbeauftragte und Verantwortliche sowie an alle Interessierten. \nWas Sie erwartet: \n\nWertvolle Praxistipps\, Einblicke und Anregungen\, wie Nachhaltigkeitsziele im Unternehmen umgesetzt werden können\n„Markt der Möglichkeiten“ – vor Ort sind alle relevanten Berliner Institutionen\, die Förderungen und Unterstützungsleistungen anbieten (z.B. zum Thema Energieeffizienz\, Berichterstattung\, Fachkräftesicherung u.v.m.)\nVernetzung und Austausch mit wichtigen Akteuren rund um nachhaltiges Wirtschaften in Berlin (Berliner Unternehmen und Start-ups\, politische Entscheidungsträger:innen und Expert:innen)\n\nAktuelle Informationen zum Programm finden Sie auf der Webseite von nawi.berlin unter https://nawi.berlin/angebot/nawi-berlin-jahresevent-berlin-wirtschaftet-zukunft/ \nDie Teilnahme ist kostenfrei\, um Anmeldung wird gebeten (Link zur Anmeldung). \nFeiern Sie mit uns die nachhaltige Entwicklung und werden Sie Teil dieser dynamischen Bewegung – denn Berlin wirtschaftet Zukunft! \nWir freuen uns auf Sie! \nDas nawi.berlin-Team \n\nÜber nawi.berlin: \nnawi.berlin – Die Navigation für nachhaltiges Wirtschaften in Berlin – ist ein Verbundprojekt vom Bundesverband Nachhaltige Wirtschaft (BNW)\, dem Social Entrepreneurship Netzwerk Deutschland (SEND) und dem Impact Hub Berlin. Als zentrale Anlaufstelle für Unternehmen der Hauptstadt bündelt nawi.berlin Wissen um nachhaltiges Wirtschaften\, macht es durch gute Beispiele aus der Praxis erfahrbar und bietet Orientierung in einer Vielzahl von Förder-\, Beratungs- und Netzwerkangeboten. Dafür hat der Verbund ein Online-Portal eingerichtet und bietet Einstiegsberatungen an. Zudem unterstützt nawi.berlin nachhaltige Start-ups sowie die Zusammenarbeit von Berliner Unternehmen untereinander. Das Projekt wird von der Senatsverwaltung für Wirtschaft\, Energie und Betriebe unterstützt.
URL:https://www.motzener-strasse.de/event/berlin-wirtschaftet-zukunft-jahresevent-von-nawi-berlin/
LOCATION:Haus Ungarn\, Karl-Liebknecht-Straße 9\, Berlin\, 10178
END:VEVENT
END:VCALENDAR