BEGIN:VCALENDAR
VERSION:2.0
PRODID:-//UnternehmensNetzwerk Motzener Straße e.V. - ECPv6.15.20//NONSGML v1.0//EN
CALSCALE:GREGORIAN
METHOD:PUBLISH
X-ORIGINAL-URL:https://www.motzener-strasse.de
X-WR-CALDESC:Veranstaltungen für UnternehmensNetzwerk Motzener Straße e.V.
REFRESH-INTERVAL;VALUE=DURATION:PT1H
X-Robots-Tag:noindex
X-PUBLISHED-TTL:PT1H
BEGIN:VTIMEZONE
TZID:Europe/Berlin
BEGIN:DAYLIGHT
TZOFFSETFROM:+0100
TZOFFSETTO:+0200
TZNAME:CEST
DTSTART:20240331T010000
END:DAYLIGHT
BEGIN:STANDARD
TZOFFSETFROM:+0200
TZOFFSETTO:+0100
TZNAME:CET
DTSTART:20241027T010000
END:STANDARD
BEGIN:DAYLIGHT
TZOFFSETFROM:+0100
TZOFFSETTO:+0200
TZNAME:CEST
DTSTART:20250330T010000
END:DAYLIGHT
BEGIN:STANDARD
TZOFFSETFROM:+0200
TZOFFSETTO:+0100
TZNAME:CET
DTSTART:20251026T010000
END:STANDARD
BEGIN:DAYLIGHT
TZOFFSETFROM:+0100
TZOFFSETTO:+0200
TZNAME:CEST
DTSTART:20260329T010000
END:DAYLIGHT
BEGIN:STANDARD
TZOFFSETFROM:+0200
TZOFFSETTO:+0100
TZNAME:CET
DTSTART:20261025T010000
END:STANDARD
END:VTIMEZONE
BEGIN:VEVENT
DTSTART;TZID=Europe/Berlin:20250619T170000
DTEND;TZID=Europe/Berlin:20250619T200000
DTSTAMP:20260422T041058
CREATED:20250516T091836Z
LAST-MODIFIED:20250530T123718Z
UID:3136-1750352400-1750363200@www.motzener-strasse.de
SUMMARY:Preisverleihung Green Buddy Award 2025
DESCRIPTION:Feierliche Verleihung des Green Buddy Award 2025! \nBereits ab 17:00 Uhr stehen Ihnen Expertinnen und Experten der Investitionsbank Berlin sowie von Berlin Partner für Wirtschaft und Technologie GmbH für persönliche Gespräche zur Verfügung. Informieren Sie sich über aktuelle Förder- und Unterstützungsmöglichkeiten. \nBitte melden Sie sich bis zum 13.06.25 unter folgendem Link an: \nhttps://eveeno.com/471676799
URL:https://www.motzener-strasse.de/event/save-the-date-preisverleihung-green-buddy-award-2025/
LOCATION:Metropol Berlin\, Nollendorfplatz 5\, 10777 Berlin
END:VEVENT
END:VCALENDAR