BEGIN:VCALENDAR
VERSION:2.0
PRODID:-//UnternehmensNetzwerk Motzener Straße e.V. - ECPv6.15.20//NONSGML v1.0//EN
CALSCALE:GREGORIAN
METHOD:PUBLISH
X-ORIGINAL-URL:https://www.motzener-strasse.de
X-WR-CALDESC:Veranstaltungen für UnternehmensNetzwerk Motzener Straße e.V.
REFRESH-INTERVAL;VALUE=DURATION:PT1H
X-Robots-Tag:noindex
X-PUBLISHED-TTL:PT1H
BEGIN:VTIMEZONE
TZID:Europe/Berlin
BEGIN:DAYLIGHT
TZOFFSETFROM:+0100
TZOFFSETTO:+0200
TZNAME:CEST
DTSTART:20240331T010000
END:DAYLIGHT
BEGIN:STANDARD
TZOFFSETFROM:+0200
TZOFFSETTO:+0100
TZNAME:CET
DTSTART:20241027T010000
END:STANDARD
BEGIN:DAYLIGHT
TZOFFSETFROM:+0100
TZOFFSETTO:+0200
TZNAME:CEST
DTSTART:20250330T010000
END:DAYLIGHT
BEGIN:STANDARD
TZOFFSETFROM:+0200
TZOFFSETTO:+0100
TZNAME:CET
DTSTART:20251026T010000
END:STANDARD
BEGIN:DAYLIGHT
TZOFFSETFROM:+0100
TZOFFSETTO:+0200
TZNAME:CEST
DTSTART:20260329T010000
END:DAYLIGHT
BEGIN:STANDARD
TZOFFSETFROM:+0200
TZOFFSETTO:+0100
TZNAME:CET
DTSTART:20261025T010000
END:STANDARD
END:VTIMEZONE
BEGIN:VEVENT
DTSTART;TZID=Europe/Berlin:20250905T130000
DTEND;TZID=Europe/Berlin:20250905T160000
DTSTAMP:20260421T225602
CREATED:20250513T141750Z
LAST-MODIFIED:20250513T141811Z
UID:3107-1757077200-1757088000@www.motzener-strasse.de
SUMMARY:Save-the-Date! Berliner Bündnis für Biodiversität
DESCRIPTION:Treffen im Lokschuppen bei unserem Bündnismitglied Umweltbildungszentrum & Kulturort NIRGENDWO für ein Bündnis-Event zum Austausch!
URL:https://www.motzener-strasse.de/event/save-the-date-berliner-buendnis-fuer-biodiversitaet/
LOCATION:NIRGENDWO Umwelt- & Kulturort\, Helsingforser Str. 10\, 10243 Berlin
ATTACH;FMTTYPE=image/png:https://www.motzener-strasse.de/wp-content/uploads/2025/05/Buendnis-fuer-Biodiversitaet.png
END:VEVENT
END:VCALENDAR