BEGIN:VCALENDAR
VERSION:2.0
PRODID:-//UnternehmensNetzwerk Motzener Straße e.V. - ECPv6.15.20//NONSGML v1.0//EN
CALSCALE:GREGORIAN
METHOD:PUBLISH
X-ORIGINAL-URL:https://www.motzener-strasse.de
X-WR-CALDESC:Veranstaltungen für UnternehmensNetzwerk Motzener Straße e.V.
REFRESH-INTERVAL;VALUE=DURATION:PT1H
X-Robots-Tag:noindex
X-PUBLISHED-TTL:PT1H
BEGIN:VTIMEZONE
TZID:Europe/Berlin
BEGIN:DAYLIGHT
TZOFFSETFROM:+0100
TZOFFSETTO:+0200
TZNAME:CEST
DTSTART:20240331T010000
END:DAYLIGHT
BEGIN:STANDARD
TZOFFSETFROM:+0200
TZOFFSETTO:+0100
TZNAME:CET
DTSTART:20241027T010000
END:STANDARD
BEGIN:DAYLIGHT
TZOFFSETFROM:+0100
TZOFFSETTO:+0200
TZNAME:CEST
DTSTART:20250330T010000
END:DAYLIGHT
BEGIN:STANDARD
TZOFFSETFROM:+0200
TZOFFSETTO:+0100
TZNAME:CET
DTSTART:20251026T010000
END:STANDARD
BEGIN:DAYLIGHT
TZOFFSETFROM:+0100
TZOFFSETTO:+0200
TZNAME:CEST
DTSTART:20260329T010000
END:DAYLIGHT
BEGIN:STANDARD
TZOFFSETFROM:+0200
TZOFFSETTO:+0100
TZNAME:CET
DTSTART:20261025T010000
END:STANDARD
END:VTIMEZONE
BEGIN:VEVENT
DTSTART;TZID=Europe/Berlin:20250913T140000
DTEND;TZID=Europe/Berlin:20250913T220000
DTSTAMP:20260421T225620
CREATED:20250530T125614Z
LAST-MODIFIED:20250808T121433Z
UID:3160-1757772000-1757800800@www.motzener-strasse.de
SUMMARY:Industriefest
DESCRIPTION:Das UnternehmensNetzwerk Motzener Straße e.V. blickt 2025 auf 20 Jahre Netzwerkgeschichte zurück. Unser 20jähriges Bestehen wollen wir mit unseren Firmen\, MitarbeiterInnen\, deren Familien und der Nachbarschaft feiern. \nDen Rahmen bildet ein Straßenfest auf der Motzener Straße. Wir verwandeln wie schon in 2007 die Straße in eine Bühne für die Unternehmen. Damals hatten wir über 10.000 Besucher\, auf mehr als 20 Ständen präsentierten sich Firmen mit ihren Produkten\, Ausbildungs- und Jobangeboten. Ein buntes Programm bildete einen unterhaltsamen Rahmen für das erste „Industriefest“ Berlins. Impressionen von 2007 finden Sie auf unserer Website www.motzener-strasse.de \nNeben den Firmenpräsentationen wird es ein umfangreiches Bühnenprogramm geben. Mitwirkende Firmen sind u.a.: Klosterfrau\, Alpla\, Dentinox\, Nico-Feuerwerk\, alfred rexroth\, CLR\, ROKA\, BarteltGLASBerlin\, G.U.T.Roske\, Timm Fensterbau\, Rubitherm\, GuK\, SKF\, Show Exclusiv\, Röscher\, Heinrich\, DR.KADE\, Jurek Reinigungstechnik\, Colibri… \nHier geht´s zum Programmflyer!
URL:https://www.motzener-strasse.de/event/industriefest/
LOCATION:Motzener Straße\, 12277 Berlin
END:VEVENT
END:VCALENDAR