BEGIN:VCALENDAR
VERSION:2.0
PRODID:-//UnternehmensNetzwerk Motzener Straße e.V. - ECPv6.15.20//NONSGML v1.0//EN
CALSCALE:GREGORIAN
METHOD:PUBLISH
X-WR-CALNAME:UnternehmensNetzwerk Motzener Straße e.V.
X-ORIGINAL-URL:https://www.motzener-strasse.de
X-WR-CALDESC:Veranstaltungen für UnternehmensNetzwerk Motzener Straße e.V.
REFRESH-INTERVAL;VALUE=DURATION:PT1H
X-Robots-Tag:noindex
X-PUBLISHED-TTL:PT1H
BEGIN:VTIMEZONE
TZID:Europe/Berlin
BEGIN:DAYLIGHT
TZOFFSETFROM:+0100
TZOFFSETTO:+0200
TZNAME:CEST
DTSTART:20250330T010000
END:DAYLIGHT
BEGIN:STANDARD
TZOFFSETFROM:+0200
TZOFFSETTO:+0100
TZNAME:CET
DTSTART:20251026T010000
END:STANDARD
BEGIN:DAYLIGHT
TZOFFSETFROM:+0100
TZOFFSETTO:+0200
TZNAME:CEST
DTSTART:20260329T010000
END:DAYLIGHT
BEGIN:STANDARD
TZOFFSETFROM:+0200
TZOFFSETTO:+0100
TZNAME:CET
DTSTART:20261025T010000
END:STANDARD
BEGIN:DAYLIGHT
TZOFFSETFROM:+0100
TZOFFSETTO:+0200
TZNAME:CEST
DTSTART:20270328T010000
END:DAYLIGHT
BEGIN:STANDARD
TZOFFSETFROM:+0200
TZOFFSETTO:+0100
TZNAME:CET
DTSTART:20271031T010000
END:STANDARD
END:VTIMEZONE
BEGIN:VEVENT
DTSTART;TZID=Europe/Berlin:20260115T093000
DTEND;TZID=Europe/Berlin:20260115T143000
DTSTAMP:20260421T161843
CREATED:20251110T150804Z
LAST-MODIFIED:20251110T150947Z
UID:3450-1768469400-1768487400@www.motzener-strasse.de
SUMMARY:Online-Kurs: Nachhaltigkeitsstrategien in Unternehmen - von der Idee zur Umsetzung
DESCRIPTION:Diese Tagesschulung der Volkshochschule Tempelhof-Schöneberg bietet einen umfassenden Überblick über die wesentlichen Schritte zur Entwicklung einer robusten Nachhaltigkeitsstrategie. Die Teilnehmenden lernen die Kernprinzipien und -prozesse kennen und verknüpfen diese durch praktische Übungen.\nSchwerpunkte sind die\n– Analyse des Status quo\n– Zieldefinition\n– Maßnahmenplanung\n– Erfolgsfaktoren für die Umsetzung… \nWeitere Infos und Anmeldung zum Online-Kurs finden Sie hier!
URL:https://www.motzener-strasse.de/event/online-kurs-nachhaltigkeitsstrategien-in-unternehmen-von-der-idee-zur-umsetzung/
LOCATION:Digitale Veranstaltung
END:VEVENT
END:VCALENDAR