BEGIN:VCALENDAR
VERSION:2.0
PRODID:-//UnternehmensNetzwerk Motzener Straße e.V. - ECPv6.15.20//NONSGML v1.0//EN
CALSCALE:GREGORIAN
METHOD:PUBLISH
X-ORIGINAL-URL:https://www.motzener-strasse.de
X-WR-CALDESC:Veranstaltungen für UnternehmensNetzwerk Motzener Straße e.V.
REFRESH-INTERVAL;VALUE=DURATION:PT1H
X-Robots-Tag:noindex
X-PUBLISHED-TTL:PT1H
BEGIN:VTIMEZONE
TZID:Europe/Berlin
BEGIN:DAYLIGHT
TZOFFSETFROM:+0100
TZOFFSETTO:+0200
TZNAME:CEST
DTSTART:20250330T010000
END:DAYLIGHT
BEGIN:STANDARD
TZOFFSETFROM:+0200
TZOFFSETTO:+0100
TZNAME:CET
DTSTART:20251026T010000
END:STANDARD
BEGIN:DAYLIGHT
TZOFFSETFROM:+0100
TZOFFSETTO:+0200
TZNAME:CEST
DTSTART:20260329T010000
END:DAYLIGHT
BEGIN:STANDARD
TZOFFSETFROM:+0200
TZOFFSETTO:+0100
TZNAME:CET
DTSTART:20261025T010000
END:STANDARD
BEGIN:DAYLIGHT
TZOFFSETFROM:+0100
TZOFFSETTO:+0200
TZNAME:CEST
DTSTART:20270328T010000
END:DAYLIGHT
BEGIN:STANDARD
TZOFFSETFROM:+0200
TZOFFSETTO:+0100
TZNAME:CET
DTSTART:20271031T010000
END:STANDARD
END:VTIMEZONE
BEGIN:VEVENT
DTSTART;TZID=Europe/Berlin:20260429T120000
DTEND;TZID=Europe/Berlin:20260429T163000
DTSTAMP:20260421T140624
CREATED:20260326T083320Z
LAST-MODIFIED:20260326T083332Z
UID:3624-1777464000-1777480200@www.motzener-strasse.de
SUMMARY:Biodiversität als Erfolgsfaktor - 2. Jubiläum des Berliner Bündnisses für Biodiversität
DESCRIPTION:Intakte Ökosysteme sichern Rohstoffe\, reduzieren Risiken des Klimawandels und gewinnen für Unternehmen zunehmend strategische Bedeutung. Biodiversität ist damit ein relevanter Erfolgsfaktor für zukunftsfähiges und verantwortungsvolles Wirtschaften. \nEntdecken Sie beim 2. Jubiläum des Berliner Bündnisses für Biodiversität\, wie vielseitig die Umsetzung in der Praxis aussehen kann. Das Format „Pitch Your Project“ zeigt\, wie bereits ganz konkrete Maßnahmen für Biodiversität von Bündnismitgliedern umgesetzt wurden. Nehmen Sie Impulse aus der Wissenschaft\, Wirtschaft und Praxis mit und nutzen Sie den Markt der Möglichkeiten\, auf dem Sie mit den Unterstützern des Bündnisses ins Gespräch kommen. Seien Sie dabei:\nDie Teilnahme ist kostenfrei! Wir freuen uns auf Sie! \nIhr Team Bündnis für Biodiversität | DIHK Service GmbH\nWeitere Infos und Anmeldelink!
URL:https://www.motzener-strasse.de/event/biodiversitaet-als-erfolgsfaktor-2-jubilaeum-des-berliner-buendnisses-fuer-biodiversitaet/
LOCATION:Malzfabrik\, Bessemerstrasse 2-14\, 12103 Berlin\, Germany
END:VEVENT
END:VCALENDAR