BEGIN:VCALENDAR
VERSION:2.0
PRODID:-//UnternehmensNetzwerk Motzener Straße e.V. - ECPv6.15.20//NONSGML v1.0//EN
CALSCALE:GREGORIAN
METHOD:PUBLISH
X-WR-CALNAME:UnternehmensNetzwerk Motzener Straße e.V.
X-ORIGINAL-URL:https://www.motzener-strasse.de
X-WR-CALDESC:Veranstaltungen für UnternehmensNetzwerk Motzener Straße e.V.
REFRESH-INTERVAL;VALUE=DURATION:PT1H
X-Robots-Tag:noindex
X-PUBLISHED-TTL:PT1H
BEGIN:VTIMEZONE
TZID:Europe/Berlin
BEGIN:DAYLIGHT
TZOFFSETFROM:+0100
TZOFFSETTO:+0200
TZNAME:CEST
DTSTART:20220327T010000
END:DAYLIGHT
BEGIN:STANDARD
TZOFFSETFROM:+0200
TZOFFSETTO:+0100
TZNAME:CET
DTSTART:20221030T010000
END:STANDARD
BEGIN:DAYLIGHT
TZOFFSETFROM:+0100
TZOFFSETTO:+0200
TZNAME:CEST
DTSTART:20230326T010000
END:DAYLIGHT
BEGIN:STANDARD
TZOFFSETFROM:+0200
TZOFFSETTO:+0100
TZNAME:CET
DTSTART:20231029T010000
END:STANDARD
BEGIN:DAYLIGHT
TZOFFSETFROM:+0100
TZOFFSETTO:+0200
TZNAME:CEST
DTSTART:20240331T010000
END:DAYLIGHT
BEGIN:STANDARD
TZOFFSETFROM:+0200
TZOFFSETTO:+0100
TZNAME:CET
DTSTART:20241027T010000
END:STANDARD
END:VTIMEZONE
BEGIN:VEVENT
DTSTART;TZID=Europe/Berlin:20230306T170000
DTEND;TZID=Europe/Berlin:20230306T183000
DTSTAMP:20260424T011341
CREATED:20231026T025941Z
LAST-MODIFIED:20231026T025941Z
UID:2322-1678122000-1678127400@www.motzener-strasse.de
SUMMARY:AK Nachhaltigkeit
DESCRIPTION:06.03.2023 AK Nachhaltigkeit\n16.00 – 17.30 Uhr\, DR.KADE Pharmazeutische Fabrik GmbH\, Rigistraße 2\, 12277 Berlin
URL:https://www.motzener-strasse.de/event/ak-nachhaltigkeit/
LOCATION:DR.KADE Pharmazeutische Fabrik GmbH\, Rigistraße 2\, Berlin\, 12277\, Deutschland
END:VEVENT
BEGIN:VEVENT
DTSTART;TZID=Europe/Berlin:20230328T190000
DTEND;TZID=Europe/Berlin:20230328T220000
DTSTAMP:20260424T011341
CREATED:20231026T030052Z
LAST-MODIFIED:20231026T030052Z
UID:2326-1680030000-1680040800@www.motzener-strasse.de
SUMMARY:Mitgliederversammlung
DESCRIPTION:28.03.2023 Mitgliederversammlung\nBeginn 17.00 Uhr\, bei SKF Lubrication Systems Germany GmbH\, Motzener Straße 35/37 in 12277 Berlin .
URL:https://www.motzener-strasse.de/event/mitgliederversammlung/
LOCATION:SKF Lubrication Systems Germany GmbH\, Motzener Straße 35/37\, Berlin\, Berlin\, 12277\, Deutschland
END:VEVENT
END:VCALENDAR