BEGIN:VCALENDAR
VERSION:2.0
PRODID:-//UnternehmensNetzwerk Motzener Straße e.V. - ECPv6.15.20//NONSGML v1.0//EN
CALSCALE:GREGORIAN
METHOD:PUBLISH
X-ORIGINAL-URL:https://www.motzener-strasse.de
X-WR-CALDESC:Veranstaltungen für UnternehmensNetzwerk Motzener Straße e.V.
REFRESH-INTERVAL;VALUE=DURATION:PT1H
X-Robots-Tag:noindex
X-PUBLISHED-TTL:PT1H
BEGIN:VTIMEZONE
TZID:Europe/Berlin
BEGIN:DAYLIGHT
TZOFFSETFROM:+0100
TZOFFSETTO:+0200
TZNAME:CEST
DTSTART:20230326T010000
END:DAYLIGHT
BEGIN:STANDARD
TZOFFSETFROM:+0200
TZOFFSETTO:+0100
TZNAME:CET
DTSTART:20231029T010000
END:STANDARD
BEGIN:DAYLIGHT
TZOFFSETFROM:+0100
TZOFFSETTO:+0200
TZNAME:CEST
DTSTART:20240331T010000
END:DAYLIGHT
BEGIN:STANDARD
TZOFFSETFROM:+0200
TZOFFSETTO:+0100
TZNAME:CET
DTSTART:20241027T010000
END:STANDARD
BEGIN:DAYLIGHT
TZOFFSETFROM:+0100
TZOFFSETTO:+0200
TZNAME:CEST
DTSTART:20250330T010000
END:DAYLIGHT
BEGIN:STANDARD
TZOFFSETFROM:+0200
TZOFFSETTO:+0100
TZNAME:CET
DTSTART:20251026T010000
END:STANDARD
END:VTIMEZONE
BEGIN:VEVENT
DTSTART;TZID=Europe/Berlin:20241204T100000
DTEND;TZID=Europe/Berlin:20241204T120000
DTSTAMP:20260422T125120
CREATED:20241120T072016Z
LAST-MODIFIED:20241120T072449Z
UID:2876-1733306400-1733313600@www.motzener-strasse.de
SUMMARY:Digitale Informations- und Austauschveranstaltung der KEK ...
DESCRIPTION:… „Ressourcenschonung und Kreislaufwirtschaft als Game Changer: Kosten senken\, Risiken reduzieren\, Zukunft sichern“.\nIn Zeiten steigender Rohstoffpreise\, wachsender Umweltauflagen und Unsicherheiten in globalen Lieferketten suchen Unternehmen nach innovativen Lösungen. Unsere Online-Veranstaltung zeigt Ihnen\, wie Sie durch ressourcenschonendes Wirtschaften und ein zirkulär gestaltetes Geschäftsmodell nicht nur Kosten senken und Risiken minimieren\, sondern auch Ihre Wettbewerbsfähigkeit steigern können. \nErfahren Sie von führenden Experten: \n\nWie Sie durch effiziente Ressourcennutzung Ihre Betriebskosten reduzieren\nWie Sie mit Circular Product Design auf Umweltauflagen reagieren und neue Geschäftsfelder erschließen können\nWarum die Circular Economy Ihnen hilft\, Lieferkettenrisiken und Produktionsausfälle zu minimieren\n\nSichern Sie sich jetzt Ihren Platz und gestalten Sie die Zukunft Ihres Unternehmens nachhaltig und profitabel! \nWir freuen uns auf Ihre Teilnahme!\n\nDie digitale Veranstaltung ist kostenfrei und wird mit dem Videokonferenzsystem WebEx durchgeführt. \nWeitere Informationen zum Programm und zur Anmeldung finden Sie auf der Veranstaltungsseite der KEK \nFür weitere Fragen wenden Sie sich gerne direkt an Kristina Gallitschke vom KEK-Team: k.gallitschke@oekotec.de\, +49 (30) 536397 – 12.
URL:https://www.motzener-strasse.de/event/digitale-informations-und-austauschveranstaltung-der-kek-ressourcenschonung-und-kreislaufwirtschaft-als-game-changer-kosten-senken-risiken-reduzieren-zukunft-sichern/
LOCATION:Digitale Veranstaltung
END:VEVENT
END:VCALENDAR