BEGIN:VCALENDAR
VERSION:2.0
PRODID:-//UnternehmensNetzwerk Motzener Straße e.V. - ECPv6.15.20//NONSGML v1.0//EN
CALSCALE:GREGORIAN
METHOD:PUBLISH
X-WR-CALNAME:UnternehmensNetzwerk Motzener Straße e.V.
X-ORIGINAL-URL:https://www.motzener-strasse.de
X-WR-CALDESC:Veranstaltungen für UnternehmensNetzwerk Motzener Straße e.V.
REFRESH-INTERVAL;VALUE=DURATION:PT1H
X-Robots-Tag:noindex
X-PUBLISHED-TTL:PT1H
BEGIN:VTIMEZONE
TZID:Europe/Berlin
BEGIN:DAYLIGHT
TZOFFSETFROM:+0100
TZOFFSETTO:+0200
TZNAME:CEST
DTSTART:20240331T010000
END:DAYLIGHT
BEGIN:STANDARD
TZOFFSETFROM:+0200
TZOFFSETTO:+0100
TZNAME:CET
DTSTART:20241027T010000
END:STANDARD
BEGIN:DAYLIGHT
TZOFFSETFROM:+0100
TZOFFSETTO:+0200
TZNAME:CEST
DTSTART:20250330T010000
END:DAYLIGHT
BEGIN:STANDARD
TZOFFSETFROM:+0200
TZOFFSETTO:+0100
TZNAME:CET
DTSTART:20251026T010000
END:STANDARD
BEGIN:DAYLIGHT
TZOFFSETFROM:+0100
TZOFFSETTO:+0200
TZNAME:CEST
DTSTART:20260329T010000
END:DAYLIGHT
BEGIN:STANDARD
TZOFFSETFROM:+0200
TZOFFSETTO:+0100
TZNAME:CET
DTSTART:20261025T010000
END:STANDARD
END:VTIMEZONE
BEGIN:VEVENT
DTSTART;TZID=Europe/Berlin:20250211T170000
DTEND;TZID=Europe/Berlin:20250211T200000
DTSTAMP:20260422T092116
CREATED:20250110T154648Z
LAST-MODIFIED:20250110T154648Z
UID:2967-1739293200-1739304000@www.motzener-strasse.de
SUMMARY:Kl!maBerlin-Dialoge
DESCRIPTION:Kl!maBerlin-Dialoge\n\n\n\n\nTermin: 11. Februar 2025\, 17.00 – 20.00 Uhr\nOrt: IHK Berlin\nLudwig-Erhard-Haus\nFasanenstraße 85\, 10623 Berlin \nWie können Unternehmen Klimaschutz umsetzen und davon auch noch selbst profitieren?\nGenau das steht im Mittelpunkt der Kl!maBerlin-Dialoge. Unter dem Motto „Mit Klimaschutz punkten?“ laden wir Sie ein\, von Berliner Unternehmen zu lernen\,\nwie nachhaltige Strategien erfolgreich gelingen. Tauschen Sie sich mit Akteuren aus Berliner Wirtschaft\, Verwaltung und Zivilgesellschaft aus\, bringen Sie Ihre Perspektive ein und nutzen Sie wertvolle Netzwerkmöglichkeiten in Lounge-Atmosphäre. Gestalten Sie nachhaltige Lösungen aktiv mit. Die Teilnahme ist kostenfrei – Hier können Sie sich anmelden!
URL:https://www.motzener-strasse.de/event/klmaberlin-dialoge/
LOCATION:Ludwig-Erhard-Haus\, Fasanenstraße 85\, 10623 Berlin
END:VEVENT
BEGIN:VEVENT
DTSTART;TZID=Europe/Berlin:20250218T160000
DTEND;TZID=Europe/Berlin:20250218T163000
DTSTAMP:20260422T092116
CREATED:20250120T133556Z
LAST-MODIFIED:20250120T134215Z
UID:2994-1739894400-1739896200@www.motzener-strasse.de
SUMMARY:Embrace the Megatrends – Nutzen Sie das Potenzial der Megatrends für Ihre Produkte und Technologien
DESCRIPTION:Embrace the Megatrends – Nutzen Sie das Potenzial der Megatrends für Ihre Produkte und Technologien.\n12 Megatrends beeinflussen die Zukunft der Produkte und Technologien. Das sind neue und obsolete Märkte\, Anforderungen\, Technologien und Substitutionsrisiken. In diesem Impulsvortrag gehen wir\, anhand von Praxisbeispielen\, auf die Chancen und Risiken ein\, die sich daraus ergeben. Wir zeigen ebenfalls\, wie die KI bei der Umsetzung der Potenziale unterstützen kann. \nVortragender: Gauthier Boisdequin / Gründer und Geschäftsführer von mine&make GmbH \nDigitale Veranstaltung via Teams. Den Link erhalten Sie zeitnah nach Ihrer Anmeldung!\nAnmeldungen an: geschaeftsstelle@motzener-strasse.de
URL:https://www.motzener-strasse.de/event/embrace-the-megatrends-nutzen-sie-das-potenzial-der-megatrends-fuer-ihre-produkte-und-technologien/
LOCATION:UnternehmensNetzwerk Motzener Straße e.V.
END:VEVENT
END:VCALENDAR