BEGIN:VCALENDAR
VERSION:2.0
PRODID:-//UnternehmensNetzwerk Motzener Straße e.V. - ECPv6.15.20//NONSGML v1.0//EN
CALSCALE:GREGORIAN
METHOD:PUBLISH
X-WR-CALNAME:UnternehmensNetzwerk Motzener Straße e.V.
X-ORIGINAL-URL:https://www.motzener-strasse.de
X-WR-CALDESC:Veranstaltungen für UnternehmensNetzwerk Motzener Straße e.V.
REFRESH-INTERVAL;VALUE=DURATION:PT1H
X-Robots-Tag:noindex
X-PUBLISHED-TTL:PT1H
BEGIN:VTIMEZONE
TZID:Europe/Berlin
BEGIN:DAYLIGHT
TZOFFSETFROM:+0100
TZOFFSETTO:+0200
TZNAME:CEST
DTSTART:20240331T010000
END:DAYLIGHT
BEGIN:STANDARD
TZOFFSETFROM:+0200
TZOFFSETTO:+0100
TZNAME:CET
DTSTART:20241027T010000
END:STANDARD
BEGIN:DAYLIGHT
TZOFFSETFROM:+0100
TZOFFSETTO:+0200
TZNAME:CEST
DTSTART:20250330T010000
END:DAYLIGHT
BEGIN:STANDARD
TZOFFSETFROM:+0200
TZOFFSETTO:+0100
TZNAME:CET
DTSTART:20251026T010000
END:STANDARD
BEGIN:DAYLIGHT
TZOFFSETFROM:+0100
TZOFFSETTO:+0200
TZNAME:CEST
DTSTART:20260329T010000
END:DAYLIGHT
BEGIN:STANDARD
TZOFFSETFROM:+0200
TZOFFSETTO:+0100
TZNAME:CET
DTSTART:20261025T010000
END:STANDARD
END:VTIMEZONE
BEGIN:VEVENT
DTSTART;TZID=Europe/Berlin:20250515T080000
DTEND;TZID=Europe/Berlin:20250515T150000
DTSTAMP:20260422T040931
CREATED:20250415T074550Z
LAST-MODIFIED:20250415T075122Z
UID:3094-1747296000-1747321200@www.motzener-strasse.de
SUMMARY:Aktionstag - Mach Dein Ding - Ausbildungsmesse Tempelhof-Schöneberg
DESCRIPTION:Am 15. Mai 2025 findet wieder der Aktionstag – Mach dein Ding –  auf dem Dominicus Sportplatz statt. Firmen aus dem UnternehmensNetzwerk stellen auch dieses Jahr ihre Ausbildungsberufe vor. Darüber hinaus ist der Verein wieder gemeinsam mit dem Netzwerk Südkreuz an einem Gemeinschaftsstand vertreten.
URL:https://www.motzener-strasse.de/event/aktionstag-mach-dein-ding-ausbildungsmesse-tempelhof-schoeneberg/
LOCATION:Dominicus Sportplatz\, Priesterweg 4\, Berlin\, 10829
ATTACH;FMTTYPE=image/png:https://www.motzener-strasse.de/wp-content/uploads/2025/04/MachDeinDing-2025_Social-Media-_quadratisch_02-1.png
END:VEVENT
END:VCALENDAR