BEGIN:VCALENDAR
VERSION:2.0
PRODID:-//UnternehmensNetzwerk Motzener Straße e.V. - ECPv6.15.20//NONSGML v1.0//EN
CALSCALE:GREGORIAN
METHOD:PUBLISH
X-WR-CALNAME:UnternehmensNetzwerk Motzener Straße e.V.
X-ORIGINAL-URL:https://www.motzener-strasse.de
X-WR-CALDESC:Veranstaltungen für UnternehmensNetzwerk Motzener Straße e.V.
REFRESH-INTERVAL;VALUE=DURATION:PT1H
X-Robots-Tag:noindex
X-PUBLISHED-TTL:PT1H
BEGIN:VTIMEZONE
TZID:Europe/Berlin
BEGIN:DAYLIGHT
TZOFFSETFROM:+0100
TZOFFSETTO:+0200
TZNAME:CEST
DTSTART:20240331T010000
END:DAYLIGHT
BEGIN:STANDARD
TZOFFSETFROM:+0200
TZOFFSETTO:+0100
TZNAME:CET
DTSTART:20241027T010000
END:STANDARD
BEGIN:DAYLIGHT
TZOFFSETFROM:+0100
TZOFFSETTO:+0200
TZNAME:CEST
DTSTART:20250330T010000
END:DAYLIGHT
BEGIN:STANDARD
TZOFFSETFROM:+0200
TZOFFSETTO:+0100
TZNAME:CET
DTSTART:20251026T010000
END:STANDARD
BEGIN:DAYLIGHT
TZOFFSETFROM:+0100
TZOFFSETTO:+0200
TZNAME:CEST
DTSTART:20260329T010000
END:DAYLIGHT
BEGIN:STANDARD
TZOFFSETFROM:+0200
TZOFFSETTO:+0100
TZNAME:CET
DTSTART:20261025T010000
END:STANDARD
END:VTIMEZONE
BEGIN:VEVENT
DTSTART;TZID=Europe/Berlin:20250603T170000
DTEND;TZID=Europe/Berlin:20250603T193000
DTSTAMP:20260422T022138
CREATED:20250423T135740Z
LAST-MODIFIED:20250517T092008Z
UID:3101-1748970000-1748979000@www.motzener-strasse.de
SUMMARY:Unternehmenstreffen im Juni...
DESCRIPTION:… bei unserem neuen Mitglied der Plus Engineering GmbH. Die Plus Engineering GmbH ist ein inhabergeführter Berliner Ingenieurdienstleister mit Sitz in Berlin-Marienfelde. Seit über 14 Jahren unterstützt das Unternehmen Kunden aus verschiedensten Branchen bei der Planung\, Entwicklung und Umsetzung technischer Lösungen. \nDas Leistungsspektrum umfasst drei zentrale Bereiche:\n \n\nFertigungsplanung: Von der Analyse\, Prozess- und Layout-Planung über die Anlagenbeschaffung bis hin zur Anlaufbegleitung und Prozessoptimierung\nEntwicklung und Bau von Betriebsmitteln: Konzept\, Entwicklung und Bau individueller Sonderlösungen\, einschließlich Retrofit bestehender Systeme\nBau\, Inbetriebnahme und Service von Fertigungsanlagen: Unterstützung großer Anlagenbauer im Sondermaschinenbau bei komplexen Projekten\, die spezielles technisches Know-how erfordern.\n\nDer Kundenkreis erstreckt sich über Branchen wie Medizintechnik\, Luft- und Raumfahrt\, Maschinenbau\, Automobilindustrie\, Elektroversorgung und Lebensmittelindustrie. Diese Vielfalt sorgt für technisch anspruchsvolle\, abwechslungsreiche Projekte mit einem hohen Innovationsgrad.
URL:https://www.motzener-strasse.de/event/unternehmenstreffen-im-juni-2/
LOCATION:Plus Engineering GmbH\, Nahmitzer Damm 30\, Berlin\, 12277
END:VEVENT
BEGIN:VEVENT
DTSTART;TZID=Europe/Berlin:20250619T170000
DTEND;TZID=Europe/Berlin:20250619T200000
DTSTAMP:20260422T022138
CREATED:20250516T091836Z
LAST-MODIFIED:20250530T123718Z
UID:3136-1750352400-1750363200@www.motzener-strasse.de
SUMMARY:Preisverleihung Green Buddy Award 2025
DESCRIPTION:Feierliche Verleihung des Green Buddy Award 2025! \nBereits ab 17:00 Uhr stehen Ihnen Expertinnen und Experten der Investitionsbank Berlin sowie von Berlin Partner für Wirtschaft und Technologie GmbH für persönliche Gespräche zur Verfügung. Informieren Sie sich über aktuelle Förder- und Unterstützungsmöglichkeiten. \nBitte melden Sie sich bis zum 13.06.25 unter folgendem Link an: \nhttps://eveeno.com/471676799
URL:https://www.motzener-strasse.de/event/save-the-date-preisverleihung-green-buddy-award-2025/
LOCATION:Metropol Berlin\, Nollendorfplatz 5\, 10777 Berlin
END:VEVENT
BEGIN:VEVENT
DTSTART;TZID=Europe/Berlin:20250625T170000
DTEND;TZID=Europe/Berlin:20250625T210000
DTSTAMP:20260422T022138
CREATED:20250613T105040Z
LAST-MODIFIED:20250613T105205Z
UID:3182-1750870800-1750885200@www.motzener-strasse.de
SUMMARY:Einladung zum Branchen-Blick - Motor der Region
DESCRIPTION:Perspektiven der Automobil – und Werkstofftechnik in Berlin und Brandenburg\nDie Automobil- und Werkstofftechnik in Berlin und Brandenburg steht im Zeichen tiefgreifender Umbrüche – und ebenso großer Chancen. Der Wandel hin zur Elektromobilität\, neue Anforderungen an Nachhaltigkeit sowie der Einsatz innovativer Materialien und Fertigungstechnologien treiben die Entwicklung rasant voran. Gleichzeitig stellt der Fachkräftemangel die Branche vor Herausforderungen. Doch wie gestaltet sich die Zukunft der Mobilität und der Werkstofftechnik in der Region? Welche Trends und Technologien werden den Standort in den kommenden Jahren prägen?\nWir laden Sie und eine Begleitung aus Ihrem geschäftlichen Umfeld herzlich zu unserem „Branchen-Blick“ – dem exklusiven Veranstaltungsformat der Berliner Volksbank – ein. \nHier geht´s zur Anmeldung!
URL:https://www.motzener-strasse.de/event/einladung-zum-branchen-blick-motor-der-region/
LOCATION:Ahlberg Metalltechnik GmbH\, Igo-Etrich-Str. 7\, 12487 Berlin
END:VEVENT
END:VCALENDAR