BEGIN:VCALENDAR
VERSION:2.0
PRODID:-//UnternehmensNetzwerk Motzener Straße e.V. - ECPv6.15.20//NONSGML v1.0//EN
CALSCALE:GREGORIAN
METHOD:PUBLISH
X-ORIGINAL-URL:https://www.motzener-strasse.de
X-WR-CALDESC:Veranstaltungen für UnternehmensNetzwerk Motzener Straße e.V.
REFRESH-INTERVAL;VALUE=DURATION:PT1H
X-Robots-Tag:noindex
X-PUBLISHED-TTL:PT1H
BEGIN:VTIMEZONE
TZID:Europe/Berlin
BEGIN:DAYLIGHT
TZOFFSETFROM:+0100
TZOFFSETTO:+0200
TZNAME:CEST
DTSTART:20240331T010000
END:DAYLIGHT
BEGIN:STANDARD
TZOFFSETFROM:+0200
TZOFFSETTO:+0100
TZNAME:CET
DTSTART:20241027T010000
END:STANDARD
BEGIN:DAYLIGHT
TZOFFSETFROM:+0100
TZOFFSETTO:+0200
TZNAME:CEST
DTSTART:20250330T010000
END:DAYLIGHT
BEGIN:STANDARD
TZOFFSETFROM:+0200
TZOFFSETTO:+0100
TZNAME:CET
DTSTART:20251026T010000
END:STANDARD
BEGIN:DAYLIGHT
TZOFFSETFROM:+0100
TZOFFSETTO:+0200
TZNAME:CEST
DTSTART:20260329T010000
END:DAYLIGHT
BEGIN:STANDARD
TZOFFSETFROM:+0200
TZOFFSETTO:+0100
TZNAME:CET
DTSTART:20261025T010000
END:STANDARD
END:VTIMEZONE
BEGIN:VEVENT
DTSTART;TZID=Europe/Berlin:20251001T150000
DTEND;TZID=Europe/Berlin:20251001T200000
DTSTAMP:20260421T194852
CREATED:20250922T085155Z
LAST-MODIFIED:20250922T085203Z
UID:3401-1759330800-1759348800@www.motzener-strasse.de
SUMMARY:IBB Wirtschaftsfördertag 2025
DESCRIPTION:„Der diesjährige IBB Wirtschaftsfördertag 2025 richtet sich gezielt an kleine und mittlere Unternehmen in Berlin\, die sich den Herausforderungen der Zukunft stellen wollen – und darin konkrete Chancen erkennen. \nDenn: Die Transformation der Wirtschaft ist kein abstraktes Zukunftsthema\, sondern betrifft jedes Unternehmen – unabhängig von Branche oder Größe – schon heute….“ \n\n\n\n\nWeitere Infos und Anmeldung \n 
URL:https://www.motzener-strasse.de/event/ibb-wirtschaftsfoerdertag-2025/
LOCATION:Investitionsbank Berlin\, Bundesallee 210\, 10719 Berlin
END:VEVENT
BEGIN:VEVENT
DTSTART;TZID=Europe/Berlin:20251021T170000
DTEND;TZID=Europe/Berlin:20251021T193000
DTSTAMP:20260421T194852
CREATED:20250811T143222Z
LAST-MODIFIED:20250902T171954Z
UID:3307-1761066000-1761075000@www.motzener-strasse.de
SUMMARY:Unternehmenstreffen im Oktober!
DESCRIPTION:Thema: Handelspartner China – Chancen und Herausforderungen – \nDiese Veranstaltung richtet sich ausschließlich an Mitglieder unseres Netzwerks. \nDie Einladungen hierzu sowie weitere Infos erfolgen zeitnah!
URL:https://www.motzener-strasse.de/event/unternehmenstreffen-im-oktober-2/
LOCATION:Schaeffer AG\, Nahmitzer Damm 32\, Berlin\, 12277
END:VEVENT
END:VCALENDAR