BEGIN:VCALENDAR
VERSION:2.0
PRODID:-//UnternehmensNetzwerk Motzener Straße e.V. - ECPv6.15.20//NONSGML v1.0//EN
CALSCALE:GREGORIAN
METHOD:PUBLISH
X-WR-CALNAME:UnternehmensNetzwerk Motzener Straße e.V.
X-ORIGINAL-URL:https://www.motzener-strasse.de
X-WR-CALDESC:Veranstaltungen für UnternehmensNetzwerk Motzener Straße e.V.
REFRESH-INTERVAL;VALUE=DURATION:PT1H
X-Robots-Tag:noindex
X-PUBLISHED-TTL:PT1H
BEGIN:VTIMEZONE
TZID:Europe/Berlin
BEGIN:DAYLIGHT
TZOFFSETFROM:+0100
TZOFFSETTO:+0200
TZNAME:CEST
DTSTART:20240331T010000
END:DAYLIGHT
BEGIN:STANDARD
TZOFFSETFROM:+0200
TZOFFSETTO:+0100
TZNAME:CET
DTSTART:20241027T010000
END:STANDARD
BEGIN:DAYLIGHT
TZOFFSETFROM:+0100
TZOFFSETTO:+0200
TZNAME:CEST
DTSTART:20250330T010000
END:DAYLIGHT
BEGIN:STANDARD
TZOFFSETFROM:+0200
TZOFFSETTO:+0100
TZNAME:CET
DTSTART:20251026T010000
END:STANDARD
BEGIN:DAYLIGHT
TZOFFSETFROM:+0100
TZOFFSETTO:+0200
TZNAME:CEST
DTSTART:20260329T010000
END:DAYLIGHT
BEGIN:STANDARD
TZOFFSETFROM:+0200
TZOFFSETTO:+0100
TZNAME:CET
DTSTART:20261025T010000
END:STANDARD
END:VTIMEZONE
BEGIN:VEVENT
DTSTART;TZID=Europe/Berlin:20251202T100000
DTEND;TZID=Europe/Berlin:20251202T110000
DTSTAMP:20260421T161912
CREATED:20251201T125017Z
LAST-MODIFIED:20251201T125943Z
UID:3468-1764669600-1764673200@www.motzener-strasse.de
SUMMARY:Das INQA - Coaching - Ein Erfahrungsbericht
DESCRIPTION:In diesem Webinar erfahren Sie alles rund um das Förderprogramm INQA-Coaching. Gemeinsam mit den Berliner Erstberatungsstellen für INQA zeigt Ihnen die Digitalagentur Berlin\, welche Vorhaben gefördert werden können und was Sie über die Beantragung wissen müssen. \nWeitere Infos! 
URL:https://www.motzener-strasse.de/event/das-inqa-coaching-ein-erfahrungsbericht/
END:VEVENT
BEGIN:VEVENT
DTSTART;TZID=Europe/Berlin:20251204T110000
DTEND;TZID=Europe/Berlin:20251204T120000
DTSTAMP:20260421T161912
CREATED:20251201T125504Z
LAST-MODIFIED:20251201T125916Z
UID:3471-1764846000-1764849600@www.motzener-strasse.de
SUMMARY:Urlaubszeit ist Hackerzeit!
DESCRIPTION:Damit Sie rechtzeitig in Ihren Urlaub starten und sich entspannen können\, zeigt die Digitalagentur in diesem DAB Webinar die wichtigsten Sicherheitsvorkehrungen vor der Urlaubszeit. \n\nWeitere Infos!
URL:https://www.motzener-strasse.de/event/urlaubszeit-ist-hackerzeit/
END:VEVENT
BEGIN:VEVENT
DTSTART;TZID=Europe/Berlin:20251205T090000
DTEND;TZID=Europe/Berlin:20251205T100000
DTSTAMP:20260421T161912
CREATED:20251201T125834Z
LAST-MODIFIED:20251201T130411Z
UID:3473-1764925200-1764928800@www.motzener-strasse.de
SUMMARY:DAB Digitalisierungsfrühstück
DESCRIPTION:Der Nikolaus bekommt digitale Verstärkung \n\nErfahren Sie\, wie KI-Assistenten den Nikolaus und Ihr Unternehmen unterstützen können. Entdecken Sie\, wie Sie eigene smarte Helfer entwickeln und gewinnbringend einsetzen – praxisnah\, inspirierend und in festlicher Atmosphäre. \nWeitere Infos! \n\n 
URL:https://www.motzener-strasse.de/event/dab-digitalisierungsfruehstueck/
LOCATION:DAB Digitalagentur Berlin GmbH\, Salzufer 15/16\, 10587 Berlin
END:VEVENT
END:VCALENDAR