BEGIN:VCALENDAR
VERSION:2.0
PRODID:-//UnternehmensNetzwerk Motzener Straße e.V. - ECPv6.15.20//NONSGML v1.0//EN
CALSCALE:GREGORIAN
METHOD:PUBLISH
X-ORIGINAL-URL:https://www.motzener-strasse.de
X-WR-CALDESC:Veranstaltungen für UnternehmensNetzwerk Motzener Straße e.V.
REFRESH-INTERVAL;VALUE=DURATION:PT1H
X-Robots-Tag:noindex
X-PUBLISHED-TTL:PT1H
BEGIN:VTIMEZONE
TZID:Europe/Berlin
BEGIN:DAYLIGHT
TZOFFSETFROM:+0100
TZOFFSETTO:+0200
TZNAME:CEST
DTSTART:20230326T010000
END:DAYLIGHT
BEGIN:STANDARD
TZOFFSETFROM:+0200
TZOFFSETTO:+0100
TZNAME:CET
DTSTART:20231029T010000
END:STANDARD
BEGIN:DAYLIGHT
TZOFFSETFROM:+0100
TZOFFSETTO:+0200
TZNAME:CEST
DTSTART:20240331T010000
END:DAYLIGHT
BEGIN:STANDARD
TZOFFSETFROM:+0200
TZOFFSETTO:+0100
TZNAME:CET
DTSTART:20241027T010000
END:STANDARD
BEGIN:DAYLIGHT
TZOFFSETFROM:+0100
TZOFFSETTO:+0200
TZNAME:CEST
DTSTART:20250330T010000
END:DAYLIGHT
BEGIN:STANDARD
TZOFFSETFROM:+0200
TZOFFSETTO:+0100
TZNAME:CET
DTSTART:20251026T010000
END:STANDARD
END:VTIMEZONE
BEGIN:VEVENT
DTSTART;TZID=Europe/Berlin:20241119T170000
DTEND;TZID=Europe/Berlin:20241119T190000
DTSTAMP:20260423T130609
CREATED:20241029T112244Z
LAST-MODIFIED:20241029T112517Z
UID:2839-1732035600-1732042800@www.motzener-strasse.de
SUMMARY:Virtual Reality (VR) / Augmented Reality (AR) - Anwendungsbeispiele aus der Praxis
DESCRIPTION:Das UnternehmensNetzwerk Motzener Straße e.V. lädt gemeinsam mit dem Regionalmanagement Tempelhof-Schöneberg (complan) zu einer Veranstaltung mit dem Thema Virtual Reality (VR) / Augmented Reality (AR) ein. Anhand von zwei Praxisbeispielen aus dem Netzwerk wird die praktische Anwendung in den Bereichen Planung und Personal aufgezeigt. \nIris Lemke\, Leiterin Personalentwicklung\, und Mirko Scholz\, Head IT von Dr. Kade erläutern neue Lernmethoden mit Datenbrillen in denen Präsentationsfähigkeiten in einer sicheren Umgebung verbessert und wertvolles Feedback in Echtzeit gegeben wird. Die Akzeptanz dieser neuen Lernmethode ist sehr positiv. \nMatthias Wiese\, GF von alfred rexroth und Prof. Dr.-Ing. Tim Mielke (Professur für Produktionssysteme und Fabrikplanung\, Laborleitung CAE und Simulation – CAVE) der BHT – Berliner Hochschule für Technik geben Einblicke in die virtuelle Planung und die Potenziale von VR und AR und stellen das Kooperationsprojekt mit der alfred rexroth GmbH & Co.KG vor. \nSie erhalten an diesem Abend die Möglichkeit\, mit Datenbrillen eigene Eindrücke zu sammeln und mit den Referenten die Potentiale eigener Anwendungen zu diskutieren. \nIm Rahmen eines kleinen „Get Togthers“ stehen die Referenten und Referentinnen für den Austausch und Fragen gerne zur Verfügung. \nDie Anmeldung erfolgt im Zuge der offiziellen Einladung!
URL:https://www.motzener-strasse.de/event/virtual-reality-vr-augmented-reality-ar-anwendungsbeispiele-aus-der-praxis/
LOCATION:alfred rexroth GmbH & Co.KG\, Motzener Straße 25\, Berlin\, 12277
END:VEVENT
END:VCALENDAR